BEGIN:VCALENDAR
VERSION:2.0
PRODID:-//South Shoalhaven - ECPv6.15.17.1//NONSGML v1.0//EN
CALSCALE:GREGORIAN
METHOD:PUBLISH
X-WR-CALNAME:South Shoalhaven
X-ORIGINAL-URL:https://www.southshoalhaven.com.au
X-WR-CALDESC:Events for South Shoalhaven
REFRESH-INTERVAL;VALUE=DURATION:PT1H
X-Robots-Tag:noindex
X-PUBLISHED-TTL:PT1H
BEGIN:VTIMEZONE
TZID:Australia/Sydney
BEGIN:STANDARD
TZOFFSETFROM:+1100
TZOFFSETTO:+1000
TZNAME:AEST
DTSTART:20250405T160000
END:STANDARD
BEGIN:DAYLIGHT
TZOFFSETFROM:+1000
TZOFFSETTO:+1100
TZNAME:AEDT
DTSTART:20251004T160000
END:DAYLIGHT
BEGIN:STANDARD
TZOFFSETFROM:+1100
TZOFFSETTO:+1000
TZNAME:AEST
DTSTART:20260404T160000
END:STANDARD
BEGIN:DAYLIGHT
TZOFFSETFROM:+1000
TZOFFSETTO:+1100
TZNAME:AEDT
DTSTART:20261003T160000
END:DAYLIGHT
BEGIN:STANDARD
TZOFFSETFROM:+1100
TZOFFSETTO:+1000
TZNAME:AEST
DTSTART:20270403T160000
END:STANDARD
BEGIN:DAYLIGHT
TZOFFSETFROM:+1000
TZOFFSETTO:+1100
TZNAME:AEDT
DTSTART:20271002T160000
END:DAYLIGHT
END:VTIMEZONE
BEGIN:VEVENT
DTSTART;TZID=Australia/Sydney:20260426T123000
DTEND;TZID=Australia/Sydney:20260426T153000
DTSTAMP:20260426T015629
CREATED:20231113T221915Z
LAST-MODIFIED:20231114T020350Z
UID:10000068-1777206600-1777217400@www.southshoalhaven.com.au
SUMMARY:Cupitt's Estate Sunday Sessions
DESCRIPTION:Come along every second Sunday for some free live music at Cupitt’s Estate. \nEnjoy the Estate made wine\, craft beer\, and delicious food while singing along to their fabulous local talent who play with a backdrop of the green rolling hills of Milton\, the Budawang ranges and Burrill Lake. \nBookings for the Terrace tables are recommended\, and dogs on leads are welcome on the lawn area! \nCupitt’s Estate operates as a winery\, brewery\, restaurant and fromagerie and Luxury Accommodation. One Accommodation Pod is entirely wheelchair accessible so everyone can experience Cupitt’s Estate hospitality. \nPlease confirm details and times on the Cupitt’s Estate website before making plans.
URL:https://www.southshoalhaven.com.au/event/cupitts-estate-sunday-sessions/2026-04-26/
LOCATION:Cupitt’s Estate\, 58 Washburton Road\, Ulladulla\, NSW\, 2539\, Australia
CATEGORIES:Food & Drink,Music
ATTACH;FMTTYPE=image/jpeg:https://www.southshoalhaven.com.au/wp-content/uploads/2023/11/cupitts-estate-sunday-sessions.jpeg
GEO:-35.3474749;150.441241
X-APPLE-STRUCTURED-LOCATION;VALUE=URI;X-ADDRESS=Cupitt’s Estate 58 Washburton Road Ulladulla NSW 2539 Australia;X-APPLE-RADIUS=500;X-TITLE=58 Washburton Road:geo:150.441241,-35.3474749
END:VEVENT
BEGIN:VEVENT
DTSTART;TZID=Australia/Sydney:20260426T170000
DTEND;TZID=Australia/Sydney:20260426T170000
DTSTAMP:20260426T015629
CREATED:20260205T031146Z
LAST-MODIFIED:20260205T031146Z
UID:10004312-1777222800-1777222800@www.southshoalhaven.com.au
SUMMARY:Henry Wagons 'The Road Less Travelled' Tour
DESCRIPTION:Henry Wagons is back with a new solo tour\, full to the brim with more tunes and tall tales from the road less travelled. \nMr. Wagons always paves his own pathway to your door\, and is keen to sing some of your favourite songs whilst sharing a story or seven.\nJust this year Henry has dipped in jacuzzis with Vikings in Scandinavia\, bucked horses in the Canadian Rockies and talked about the Irish colonisation over rosé with The Edge. Tell me you don’t want to witness all this across a good night out! \nJoin Henry at the table for these intimate and interactive shows\, across Australia\, on “The Road Less Travelled Tour”
URL:https://www.southshoalhaven.com.au/event/henry-wagons-the-road-less-travelled-tour/
LOCATION:Bar Yuki\, Wason Street 23\, Milton\, NSW\, 2538\, Australia
CATEGORIES:Music
ATTACH;FMTTYPE=image/webp:https://www.southshoalhaven.com.au/wp-content/uploads/2026/02/HW-Road-Less-Travelled-Tour-Rectangular.webp
GEO:-35.3157266;150.4358673
X-APPLE-STRUCTURED-LOCATION;VALUE=URI;X-ADDRESS=Bar Yuki Wason Street 23 Milton NSW 2538 Australia;X-APPLE-RADIUS=500;X-TITLE=Wason Street 23:geo:150.4358673,-35.3157266
END:VEVENT
BEGIN:VEVENT
DTSTART;TZID=Australia/Sydney:20260426T170000
DTEND;TZID=Australia/Sydney:20260426T183000
DTSTAMP:20260426T015629
CREATED:20241002T232550Z
LAST-MODIFIED:20241002T233035Z
UID:10001627-1777222800-1777228200@www.southshoalhaven.com.au
SUMMARY:Sunday Meat Raffles - MU Ex Servo's
DESCRIPTION:Support the Milton Ulladulla Football Club at the Sunday Meat Raffles.\nThere will be $700 in meat trays up for grabs with all proceeds from the raffles going to the Milton Ulladulla Panthers Football Club.\nTickets will go on sale at 5pm with the draw starting at 6pm.\nGet in early for your tickets then stay and enjoy dinner in the Southside Restaurant and maybe a nice cold schooner of beer!
URL:https://www.southshoalhaven.com.au/event/3905-2/2026-04-26/
LOCATION:Milton Ulladulla Ex Servos Club\, Princes Highway\, Ulladulla\, NSW\, 2539\, Australia
CATEGORIES:Raffles
ATTACH;FMTTYPE=image/png:https://www.southshoalhaven.com.au/wp-content/uploads/2024/09/exservos-meat-raffle-Sun-800x600-1.png
ORGANIZER;CN="Milton Ulladulla Ex Servo's Club":MAILTO:enquiries@ulladullaexservos.com.au
GEO:-35.3684214;150.4706082
X-APPLE-STRUCTURED-LOCATION;VALUE=URI;X-ADDRESS=Milton Ulladulla Ex Servos Club Princes Highway Ulladulla NSW 2539 Australia;X-APPLE-RADIUS=500;X-TITLE=Princes Highway:geo:150.4706082,-35.3684214
END:VEVENT
BEGIN:VEVENT
DTSTART;TZID=Australia/Sydney:20260426T170000
DTEND;TZID=Australia/Sydney:20260426T200000
DTSTAMP:20260426T015629
CREATED:20260330T002708Z
LAST-MODIFIED:20260330T002709Z
UID:10004410-1777222800-1777233600@www.southshoalhaven.com.au
SUMMARY:Sunday Sessions at The Rooftop Bar and Grill
DESCRIPTION:Join in on a Sunday Session at The Rooftop East each Sunday afternoon for live music and good vibes. No bookings necessary. Visit the website for details on upcoming acts.
URL:https://www.southshoalhaven.com.au/event/sunday-sessions-at-the-rooftop-bar-and-grill/2026-04-26/
LOCATION:Bannisters Rooftop Pavillion\, Tallwood Avenue 87\, Mollymook Beach\, NSW\, 2539\, Australia
CATEGORIES:Food & Drink,Music
ATTACH;FMTTYPE=image/jpeg:https://www.southshoalhaven.com.au/wp-content/uploads/2026/03/b7965285d47b45e610fce9f7c1dbde46.jpeg
ORGANIZER;CN="Bannisters":MAILTO:info@bannisters.com.au
GEO:-35.3250315;150.4763976
X-APPLE-STRUCTURED-LOCATION;VALUE=URI;X-ADDRESS=Bannisters Rooftop Pavillion Tallwood Avenue 87 Mollymook Beach NSW 2539 Australia;X-APPLE-RADIUS=500;X-TITLE=Tallwood Avenue 87:geo:150.4763976,-35.3250315
END:VEVENT
END:VCALENDAR